BEGIN:VCALENDAR
VERSION:2.0
METHOD:PUBLISH
PRODID:-//Accessible Web Design//My Calendar//http://www.joedolson.com//v//EN';
BEGIN:VEVENT
UID:494-234
LOCATION:
SUMMARY:Bébé signe
DTSTAMP:20220507
ORGANIZER;CN=Véronique MAMETZ:MAILTO:vmametz@gmail.com
DTSTART:20220507
DTEND:20220508
CATEGORIES:Bébé signe
URL;VALUE=URI:https://www.traitdunionnoisysurecole.fr/mc-events/bebe-signe-11/?mc_id=494
DESCRIPTION:
X-FUNAMBOL-ALLDAY: 1
X-MICROSOFT-CDO-ALLDAYEVENT: TRUE

END:VEVENT
END:VCALENDAR