BEGIN:VCALENDAR
VERSION:2.0
METHOD:PUBLISH
PRODID:-//Accessible Web Design//My Calendar//http://www.joedolson.com//v//EN';
BEGIN:VEVENT
UID:362-184
LOCATION:
SUMMARY:Scrapbooking
DTSTAMP:20220421
ORGANIZER;CN=Véronique MAMETZ:MAILTO:vmametz@gmail.com
DTSTART:20220421
DTEND:20220422
CATEGORIES:Scrapbooking
URL;VALUE=URI:https://www.traitdunionnoisysurecole.fr/mc-events/scrapbooking-52/?mc_id=362
DESCRIPTION:
X-FUNAMBOL-ALLDAY: 1
X-MICROSOFT-CDO-ALLDAYEVENT: TRUE

END:VEVENT
END:VCALENDAR