BEGIN:VCALENDAR
VERSION:2.0
METHOD:PUBLISH
PRODID:-//Accessible Web Design//My Calendar//http://www.joedolson.com//v//EN';
BEGIN:VEVENT
UID:356-178
LOCATION:
SUMMARY:Scrapbooking
DTSTAMP:20220310
ORGANIZER;CN=Véronique MAMETZ:MAILTO:vmametz@gmail.com
DTSTART:20220310
DTEND:20220311
CATEGORIES:Scrapbooking
URL;VALUE=URI:https://www.traitdunionnoisysurecole.fr/mc-events/scrapbooking-46/?mc_id=356
DESCRIPTION:
X-FUNAMBOL-ALLDAY: 1
X-MICROSOFT-CDO-ALLDAYEVENT: TRUE

END:VEVENT
END:VCALENDAR