BEGIN:VCALENDAR
VERSION:2.0
METHOD:PUBLISH
PRODID:-//Accessible Web Design//My Calendar//http://www.joedolson.com//v//EN';
BEGIN:VEVENT
UID:343-151
LOCATION:
SUMMARY:Bébés lecteurs
DTSTAMP:20220616
ORGANIZER;CN=Véronique MAMETZ:MAILTO:vmametz@gmail.com
DTSTART:20220616
DTEND:20220617
CATEGORIES:Bébés lecteurs
URL;VALUE=URI:https://www.traitdunionnoisysurecole.fr/mc-events/bebes-lecteurs-30/?mc_id=343
DESCRIPTION:
X-FUNAMBOL-ALLDAY: 1
X-MICROSOFT-CDO-ALLDAYEVENT: TRUE

END:VEVENT
END:VCALENDAR