BEGIN:VCALENDAR
VERSION:2.0
METHOD:PUBLISH
PRODID:-//Accessible Web Design//My Calendar//http://www.joedolson.com//v//EN';
BEGIN:VEVENT
UID:328-218
LOCATION:
SUMMARY:Atelier chant
DTSTAMP:20220312
ORGANIZER;CN=Véronique MAMETZ:MAILTO:vmametz@gmail.com
DTSTART:20220312
DTEND:20220313
CATEGORIES:Atelier chant
URL;VALUE=URI:https://www.traitdunionnoisysurecole.fr/mc-events/atelier-chant-30/?mc_id=328
DESCRIPTION:
X-FUNAMBOL-ALLDAY: 1
X-MICROSOFT-CDO-ALLDAYEVENT: TRUE

END:VEVENT
END:VCALENDAR