BEGIN:VCALENDAR
VERSION:2.0
METHOD:PUBLISH
PRODID:-//Accessible Web Design//My Calendar//http://www.joedolson.com//v//EN';
BEGIN:VEVENT
UID:324-214
LOCATION:
SUMMARY:Atelier chant
DTSTAMP:20220129T093000
ORGANIZER;CN=Véronique MAMETZ:MAILTO:vmametz@gmail.com
DTSTART:20220129T093000
DTEND:20220129T103000
CATEGORIES:Atelier chant
URL;VALUE=URI:https://www.traitdunionnoisysurecole.fr/mc-events/atelier-chant-27/?mc_id=324
DESCRIPTION:
END:VEVENT
END:VCALENDAR