BEGIN:VCALENDAR
VERSION:2.0
METHOD:PUBLISH
PRODID:-//Accessible Web Design//My Calendar//http://www.joedolson.com//v//EN';
BEGIN:VEVENT
UID:495-235
LOCATION:
SUMMARY:Bébé signe
DTSTAMP:20220521
ORGANIZER;CN=Véronique MAMETZ:MAILTO:vmametz@gmail.com
DTSTART:20220521
DTEND:20220522
CATEGORIES:Bébé signe
URL;VALUE=URI:https://www.traitdunionnoisysurecole.fr/mc-events/bebe-signe-12/?mc_id=495
DESCRIPTION:
X-FUNAMBOL-ALLDAY: 1
X-MICROSOFT-CDO-ALLDAYEVENT: TRUE

END:VEVENT
END:VCALENDAR