BEGIN:VCALENDAR
VERSION:2.0
METHOD:PUBLISH
PRODID:-//Accessible Web Design//My Calendar//http://www.joedolson.com//v//EN';
BEGIN:VEVENT
UID:352-173
LOCATION:
SUMMARY:Scrapbooking
DTSTAMP:20220201T133000
ORGANIZER;CN=Véronique MAMETZ:MAILTO:vmametz@gmail.com
DTSTART:20220201T133000
DTEND:20220201T143000
CATEGORIES:Scrapbooking
URL;VALUE=URI:https://www.traitdunionnoisysurecole.fr/mc-events/scrapbooking-41/?mc_id=352
DESCRIPTION:
END:VEVENT
END:VCALENDAR