BEGIN:VCALENDAR
VERSION:2.0
METHOD:PUBLISH
PRODID:-//Accessible Web Design//My Calendar//http://www.joedolson.com//v//EN';
BEGIN:VEVENT
UID:330-220
LOCATION:
SUMMARY:Atelier chant
DTSTAMP:20220423
ORGANIZER;CN=Véronique MAMETZ:MAILTO:vmametz@gmail.com
DTSTART:20220423
DTEND:20220424
CATEGORIES:Atelier chant
URL;VALUE=URI:https://www.traitdunionnoisysurecole.fr/mc-events/atelier-chant-34/?mc_id=330
DESCRIPTION:
X-FUNAMBOL-ALLDAY: 1
X-MICROSOFT-CDO-ALLDAYEVENT: TRUE

END:VEVENT
END:VCALENDAR