BEGIN:VCALENDAR
VERSION:2.0
METHOD:PUBLISH
PRODID:-//Accessible Web Design//My Calendar//http://www.joedolson.com//v//EN';
BEGIN:VEVENT
UID:230-122
LOCATION:
SUMMARY:Baby gym
DTSTAMP:20210621T093000
ORGANIZER;CN=Véronique MAMETZ:MAILTO:vmametz@gmail.com
DTSTART:20210621T093000
DTEND:20210621T103000
CATEGORIES:Baby Gym
URL;VALUE=URI:https://www.traitdunionnoisysurecole.fr/mc-events/baby-gym-28/?mc_id=230
DESCRIPTION:
END:VEVENT
END:VCALENDAR